BEGIN:VCALENDAR
VERSION:2.0
PRODID:-//Fort Atkinson Performing Arts Center - ECPv6.15.17.1//NONSGML v1.0//EN
CALSCALE:GREGORIAN
METHOD:PUBLISH
X-WR-CALNAME:Fort Atkinson Performing Arts Center
X-ORIGINAL-URL:https://fortatkinsonpac.com
X-WR-CALDESC:Events for Fort Atkinson Performing Arts Center
REFRESH-INTERVAL;VALUE=DURATION:PT1H
X-Robots-Tag:noindex
X-PUBLISHED-TTL:PT1H
BEGIN:VTIMEZONE
TZID:America/Chicago
BEGIN:DAYLIGHT
TZOFFSETFROM:-0600
TZOFFSETTO:-0500
TZNAME:CDT
DTSTART:20220313T080000
END:DAYLIGHT
BEGIN:STANDARD
TZOFFSETFROM:-0500
TZOFFSETTO:-0600
TZNAME:CST
DTSTART:20221106T070000
END:STANDARD
BEGIN:DAYLIGHT
TZOFFSETFROM:-0600
TZOFFSETTO:-0500
TZNAME:CDT
DTSTART:20230312T080000
END:DAYLIGHT
BEGIN:STANDARD
TZOFFSETFROM:-0500
TZOFFSETTO:-0600
TZNAME:CST
DTSTART:20231105T070000
END:STANDARD
BEGIN:DAYLIGHT
TZOFFSETFROM:-0600
TZOFFSETTO:-0500
TZNAME:CDT
DTSTART:20240310T080000
END:DAYLIGHT
BEGIN:STANDARD
TZOFFSETFROM:-0500
TZOFFSETTO:-0600
TZNAME:CST
DTSTART:20241103T070000
END:STANDARD
END:VTIMEZONE
BEGIN:VEVENT
DTSTART;TZID=America/Chicago:20230601T180000
DTEND;TZID=America/Chicago:20230601T210000
DTSTAMP:20260425T083922
CREATED:20230531T113316Z
LAST-MODIFIED:20230601T143106Z
UID:1850-1685642400-1685653200@fortatkinsonpac.com
SUMMARY:CODA
DESCRIPTION:Join the Fort Atkinson High School Performing Arts students as they perform for their final time this school year.
URL:https://fortatkinsonpac.com/event/coda/
LOCATION:FCCU Performing Arts Center\, 925 Lexington Blvd\, Fort Atkinson\, WI\, 53538\, United States
CATEGORIES:Band,Choir,Featured,Jazz,Music,Orchestra,School District,Showchoir
ATTACH;FMTTYPE=image/jpeg:https://fortatkinsonpac.com/wp-content/uploads/2023/05/hqdefault.jpg
END:VEVENT
BEGIN:VEVENT
DTSTART;TZID=America/Chicago:20230616T180000
DTEND;TZID=America/Chicago:20230616T190000
DTSTAMP:20260425T083922
CREATED:20230616T125246Z
LAST-MODIFIED:20230616T125438Z
UID:1863-1686938400-1686942000@fortatkinsonpac.com
SUMMARY:Fort Atkinson Park and Recreation Dance Recital
DESCRIPTION:
URL:https://fortatkinsonpac.com/event/fort-atkinson-park-and-recreation-dance-recital/
LOCATION:FCCU Performing Arts Center\, 925 Lexington Blvd\, Fort Atkinson\, WI\, 53538\, United States
CATEGORIES:Dance,Featured,Theater
ATTACH;FMTTYPE=image/png:https://fortatkinsonpac.com/wp-content/uploads/2023/06/parks-n-rec.png
END:VEVENT
BEGIN:VEVENT
DTSTART;TZID=America/Chicago:20230624T180000
DTEND;TZID=America/Chicago:20230624T200000
DTSTAMP:20260425T083922
CREATED:20230606T161619Z
LAST-MODIFIED:20230614T170227Z
UID:1856-1687629600-1687636800@fortatkinsonpac.com
SUMMARY:Dance Elite by C: Contrast. Dance Edition.
DESCRIPTION:
URL:https://fortatkinsonpac.com/event/dance-elite-contrast-dance-edition/
LOCATION:FCCU Performing Arts Center\, 925 Lexington Blvd\, Fort Atkinson\, WI\, 53538\, United States
CATEGORIES:Dance,Featured
ATTACH;FMTTYPE=image/jpeg:https://fortatkinsonpac.com/wp-content/uploads/2023/06/DECimage-scaled.jpg
ORGANIZER;CN="Dance Elite by C":MAILTO:danceelitebyc@gmail.com
END:VEVENT
BEGIN:VEVENT
DTSTART;TZID=America/Chicago:20230625T150000
DTEND;TZID=America/Chicago:20230625T170000
DTSTAMP:20260425T083922
CREATED:20230606T161916Z
LAST-MODIFIED:20230614T170220Z
UID:1858-1687705200-1687712400@fortatkinsonpac.com
SUMMARY:Dance Elite by C: Contrast. Dance Edition
DESCRIPTION:
URL:https://fortatkinsonpac.com/event/dance-elite-contrast-dance-edition-2/
LOCATION:FCCU Performing Arts Center\, 925 Lexington Blvd\, Fort Atkinson\, WI\, 53538\, United States
CATEGORIES:Dance,Featured
ATTACH;FMTTYPE=image/jpeg:https://fortatkinsonpac.com/wp-content/uploads/2023/06/DECimage-scaled.jpg
ORGANIZER;CN="Dance Elite by C":MAILTO:danceelitebyc@gmail.com
END:VEVENT
END:VCALENDAR