BEGIN:VCALENDAR
VERSION:2.0
PRODID:-//Fort Atkinson Performing Arts Center - ECPv6.15.17.1//NONSGML v1.0//EN
CALSCALE:GREGORIAN
METHOD:PUBLISH
X-ORIGINAL-URL:https://fortatkinsonpac.com
X-WR-CALDESC:Events for Fort Atkinson Performing Arts Center
REFRESH-INTERVAL;VALUE=DURATION:PT1H
X-Robots-Tag:noindex
X-PUBLISHED-TTL:PT1H
BEGIN:VTIMEZONE
TZID:America/Chicago
BEGIN:DAYLIGHT
TZOFFSETFROM:-0600
TZOFFSETTO:-0500
TZNAME:CDT
DTSTART:20220313T080000
END:DAYLIGHT
BEGIN:STANDARD
TZOFFSETFROM:-0500
TZOFFSETTO:-0600
TZNAME:CST
DTSTART:20221106T070000
END:STANDARD
BEGIN:DAYLIGHT
TZOFFSETFROM:-0600
TZOFFSETTO:-0500
TZNAME:CDT
DTSTART:20230312T080000
END:DAYLIGHT
BEGIN:STANDARD
TZOFFSETFROM:-0500
TZOFFSETTO:-0600
TZNAME:CST
DTSTART:20231105T070000
END:STANDARD
BEGIN:DAYLIGHT
TZOFFSETFROM:-0600
TZOFFSETTO:-0500
TZNAME:CDT
DTSTART:20240310T080000
END:DAYLIGHT
BEGIN:STANDARD
TZOFFSETFROM:-0500
TZOFFSETTO:-0600
TZNAME:CST
DTSTART:20241103T070000
END:STANDARD
END:VTIMEZONE
BEGIN:VEVENT
DTSTART;TZID=America/Chicago:20230502T190000
DTEND;TZID=America/Chicago:20230502T210000
DTSTAMP:20260425T102238
CREATED:20230424T144234Z
LAST-MODIFIED:20230424T144236Z
UID:1819-1683054000-1683061200@fortatkinsonpac.com
SUMMARY:Fort Atkinson Performing Arts Exemplary Honors Recital
DESCRIPTION:
URL:https://fortatkinsonpac.com/event/fort-atkinson-performing-arts-exemplary-honors-recital/
LOCATION:FCCU Performing Arts Center\, 925 Lexington Blvd\, Fort Atkinson\, WI\, 53538\, United States
CATEGORIES:Music,School District
ATTACH;FMTTYPE=image/jpeg:https://fortatkinsonpac.com/wp-content/uploads/2022/10/FA-Performing-Arts.jpg
END:VEVENT
BEGIN:VEVENT
DTSTART;TZID=America/Chicago:20230504T190000
DTEND;TZID=America/Chicago:20230504T210000
DTSTAMP:20260425T102238
CREATED:20230424T144419Z
LAST-MODIFIED:20230424T144422Z
UID:1821-1683226800-1683234000@fortatkinsonpac.com
SUMMARY:High School Orchestra Concert
DESCRIPTION:
URL:https://fortatkinsonpac.com/event/high-school-orchestra-concert/
LOCATION:FCCU Performing Arts Center\, 925 Lexington Blvd\, Fort Atkinson\, WI\, 53538\, United States
CATEGORIES:Music,Orchestra,School District
ATTACH;FMTTYPE=image/jpeg:https://fortatkinsonpac.com/wp-content/uploads/2022/10/FA-Performing-Arts.jpg
END:VEVENT
BEGIN:VEVENT
DTSTART;TZID=America/Chicago:20230507T180000
DTEND;TZID=America/Chicago:20230507T190000
DTSTAMP:20260425T102238
CREATED:20230424T144635Z
LAST-MODIFIED:20230424T144638Z
UID:1823-1683482400-1683486000@fortatkinsonpac.com
SUMMARY:Youth Show Choir Concert
DESCRIPTION:
URL:https://fortatkinsonpac.com/event/youth-show-choir-concert/
LOCATION:FCCU Performing Arts Center\, 925 Lexington Blvd\, Fort Atkinson\, WI\, 53538\, United States
CATEGORIES:Music,School District,Showchoir
ATTACH;FMTTYPE=image/jpeg:https://fortatkinsonpac.com/wp-content/uploads/2022/10/FA-Performing-Arts.jpg
END:VEVENT
BEGIN:VEVENT
DTSTART;TZID=America/Chicago:20230508T190000
DTEND;TZID=America/Chicago:20230508T210000
DTSTAMP:20260425T102238
CREATED:20230424T144953Z
LAST-MODIFIED:20230424T145013Z
UID:1825-1683572400-1683579600@fortatkinsonpac.com
SUMMARY:High School Spring Choir Concert
DESCRIPTION:
URL:https://fortatkinsonpac.com/event/high-school-choir-concert/
LOCATION:FCCU Performing Arts Center\, 925 Lexington Blvd\, Fort Atkinson\, WI\, 53538\, United States
CATEGORIES:Choir,Music,School District
ATTACH;FMTTYPE=image/jpeg:https://fortatkinsonpac.com/wp-content/uploads/2022/10/FA-Performing-Arts.jpg
END:VEVENT
BEGIN:VEVENT
DTSTART;TZID=America/Chicago:20230511T190000
DTEND;TZID=America/Chicago:20230511T210000
DTSTAMP:20260425T102238
CREATED:20230424T145135Z
LAST-MODIFIED:20230424T145419Z
UID:1828-1683831600-1683838800@fortatkinsonpac.com
SUMMARY:High School Spring Band Concert
DESCRIPTION:
URL:https://fortatkinsonpac.com/event/high-school-spring-band-concert/
LOCATION:FCCU Performing Arts Center\, 925 Lexington Blvd\, Fort Atkinson\, WI\, 53538\, United States
CATEGORIES:Band,Music,School District
ATTACH;FMTTYPE=image/jpeg:https://fortatkinsonpac.com/wp-content/uploads/2022/10/Screenshot-2022-10-30-181145.jpg
END:VEVENT
BEGIN:VEVENT
DTSTART;TZID=America/Chicago:20230517T183000
DTEND;TZID=America/Chicago:20230517T210000
DTSTAMP:20260425T102238
CREATED:20230424T145347Z
LAST-MODIFIED:20230424T145350Z
UID:1830-1684348200-1684357200@fortatkinsonpac.com
SUMMARY:Senior Scholarship Program
DESCRIPTION:
URL:https://fortatkinsonpac.com/event/senior-scholarship-program/
LOCATION:FCCU Performing Arts Center\, 925 Lexington Blvd\, Fort Atkinson\, WI\, 53538\, United States
CATEGORIES:Educational,School District
ATTACH;FMTTYPE=image/png:https://fortatkinsonpac.com/wp-content/uploads/2022/10/1fort.png
END:VEVENT
BEGIN:VEVENT
DTSTART;TZID=America/Chicago:20230520T150000
DTEND;TZID=America/Chicago:20230520T170000
DTSTAMP:20260425T102238
CREATED:20230513T135031Z
LAST-MODIFIED:20230513T135033Z
UID:1843-1684594800-1684602000@fortatkinsonpac.com
SUMMARY:Soaring Stars Dance & Tumbling Annual Recital
DESCRIPTION:Soaring Stars Dance & Tumbling is having their annual recital at Fort Atkinson Performing Arts Center. It will be a show of magic and wonder! Come see how we put our acrobatic skills together for a phenomenal performance. We would love to see you there. At our dance studio we join the love for dance with the fun of tumbling all together in one class. We learn the art of acrobatics in a fun and enjoyable way. Come check us out! Summer session will be starting in June!
URL:https://fortatkinsonpac.com/event/soaring-stars-dance-tumbling-annual-recital/
LOCATION:FCCU Performing Arts Center\, 925 Lexington Blvd\, Fort Atkinson\, WI\, 53538\, United States
CATEGORIES:Dance,Featured,Theater
ATTACH;FMTTYPE=image/jpeg:https://fortatkinsonpac.com/wp-content/uploads/2023/05/IMG_0002.jpeg
ORGANIZER;CN="Soaring Stars Dance & Tumbling":MAILTO:soaringstarsacro@gmail.com
END:VEVENT
BEGIN:VEVENT
DTSTART;TZID=America/Chicago:20230522T190000
DTEND;TZID=America/Chicago:20230522T200000
DTSTAMP:20260425T102238
CREATED:20230424T145634Z
LAST-MODIFIED:20230522T162832Z
UID:1832-1684782000-1684785600@fortatkinsonpac.com
SUMMARY:Middle School Spring Band Concert
DESCRIPTION:
URL:https://fortatkinsonpac.com/event/middle-school-spring-band-concert/
LOCATION:FCCU Performing Arts Center\, 925 Lexington Blvd\, Fort Atkinson\, WI\, 53538\, United States
CATEGORIES:Band,Music,School District
ATTACH;FMTTYPE=image/png:https://fortatkinsonpac.com/wp-content/uploads/2022/11/LG_FAMS.png
END:VEVENT
BEGIN:VEVENT
DTSTART;TZID=America/Chicago:20230523T180000
DTEND;TZID=America/Chicago:20230523T190000
DTSTAMP:20260425T102238
CREATED:20230424T145809Z
LAST-MODIFIED:20230522T162814Z
UID:1834-1684864800-1684868400@fortatkinsonpac.com
SUMMARY:5th Grade Band & Orchestra Spring Concert
DESCRIPTION:
URL:https://fortatkinsonpac.com/event/5th-grade-band-orchestra-spring-concert/
LOCATION:FCCU Performing Arts Center\, 925 Lexington Blvd\, Fort Atkinson\, WI\, 53538\, United States
CATEGORIES:Band,Music,Orchestra,School District
ATTACH;FMTTYPE=image/png:https://fortatkinsonpac.com/wp-content/uploads/2022/10/1fort.png
END:VEVENT
END:VCALENDAR