BEGIN:VCALENDAR
VERSION:2.0
PRODID:-//Fort Atkinson Performing Arts Center - ECPv6.15.17.1//NONSGML v1.0//EN
CALSCALE:GREGORIAN
METHOD:PUBLISH
X-ORIGINAL-URL:https://fortatkinsonpac.com
X-WR-CALDESC:Events for Fort Atkinson Performing Arts Center
REFRESH-INTERVAL;VALUE=DURATION:PT1H
X-Robots-Tag:noindex
X-PUBLISHED-TTL:PT1H
BEGIN:VTIMEZONE
TZID:America/Chicago
BEGIN:DAYLIGHT
TZOFFSETFROM:-0600
TZOFFSETTO:-0500
TZNAME:CDT
DTSTART:20220313T080000
END:DAYLIGHT
BEGIN:STANDARD
TZOFFSETFROM:-0500
TZOFFSETTO:-0600
TZNAME:CST
DTSTART:20221106T070000
END:STANDARD
BEGIN:DAYLIGHT
TZOFFSETFROM:-0600
TZOFFSETTO:-0500
TZNAME:CDT
DTSTART:20230312T080000
END:DAYLIGHT
BEGIN:STANDARD
TZOFFSETFROM:-0500
TZOFFSETTO:-0600
TZNAME:CST
DTSTART:20231105T070000
END:STANDARD
BEGIN:DAYLIGHT
TZOFFSETFROM:-0600
TZOFFSETTO:-0500
TZNAME:CDT
DTSTART:20240310T080000
END:DAYLIGHT
BEGIN:STANDARD
TZOFFSETFROM:-0500
TZOFFSETTO:-0600
TZNAME:CST
DTSTART:20241103T070000
END:STANDARD
END:VTIMEZONE
BEGIN:VEVENT
DTSTART;TZID=America/Chicago:20230411T180000
DTEND;TZID=America/Chicago:20230411T200000
DTSTAMP:20260425T120401
CREATED:20230410T181815Z
LAST-MODIFIED:20230410T181818Z
UID:1810-1681236000-1681243200@fortatkinsonpac.com
SUMMARY:DARE Graduation
DESCRIPTION:
URL:https://fortatkinsonpac.com/event/dare-graduation/
LOCATION:FCCU Performing Arts Center\, 925 Lexington Blvd\, Fort Atkinson\, WI\, 53538\, United States
CATEGORIES:School District
ATTACH;FMTTYPE=image/png:https://fortatkinsonpac.com/wp-content/uploads/2023/04/dare.png
END:VEVENT
BEGIN:VEVENT
DTSTART;TZID=America/Chicago:20230421T193000
DTEND;TZID=America/Chicago:20230421T213000
DTSTAMP:20260425T120401
CREATED:20230319T144243Z
LAST-MODIFIED:20230319T145109Z
UID:1782-1682105400-1682112600@fortatkinsonpac.com
SUMMARY:Clue (High School Edition)
DESCRIPTION:Based on the iconic 1985 Paramount movie which was inspired by the classic Hasbro board game\, Clue is a hilarious farce-meets-murder mystery. The tale begins at a remote mansion\, where six mysterious guests assemble for an unusual dinner party where murder and blackmail are on the menu. When their host turns up dead\, they all become suspects. Led by Wadsworth – the butler\, Miss Scarlett\, Professor Plum\, Mrs. White\, Mr. Green\, Mrs. Peacock and Colonel Mustard race to find the killer as the body count stacks up. Clue is the comedy whodunit that will leave both cult-fans and newcomers in stitches as they try to figure out…WHO did it\, WHERE\, and with WHAT!
URL:https://fortatkinsonpac.com/event/clue-high-school-edition/
LOCATION:FCCU Performing Arts Center\, 925 Lexington Blvd\, Fort Atkinson\, WI\, 53538\, United States
CATEGORIES:Comedy,School District,Theater
ATTACH;FMTTYPE=image/png:https://fortatkinsonpac.com/wp-content/uploads/2023/03/3.png
END:VEVENT
BEGIN:VEVENT
DTSTART;TZID=America/Chicago:20230422T193000
DTEND;TZID=America/Chicago:20230422T213000
DTSTAMP:20260425T120401
CREATED:20230319T145309Z
LAST-MODIFIED:20230319T145638Z
UID:1788-1682191800-1682199000@fortatkinsonpac.com
SUMMARY:Clue (High School Edition)
DESCRIPTION:Based on the iconic 1985 Paramount movie which was inspired by the classic Hasbro board game\, Clue is a hilarious farce-meets-murder mystery. The tale begins at a remote mansion\, where six mysterious guests assemble for an unusual dinner party where murder and blackmail are on the menu. When their host turns up dead\, they all become suspects. Led by Wadsworth – the butler\, Miss Scarlett\, Professor Plum\, Mrs. White\, Mr. Green\, Mrs. Peacock and Colonel Mustard race to find the killer as the body count stacks up. Clue is the comedy whodunit that will leave both cult-fans and newcomers in stitches as they try to figure out…WHO did it\, WHERE\, and with WHAT!
URL:https://fortatkinsonpac.com/event/clue-high-school-edition-2/
LOCATION:FCCU Performing Arts Center\, 925 Lexington Blvd\, Fort Atkinson\, WI\, 53538\, United States
CATEGORIES:Comedy,School District,Theater
ATTACH;FMTTYPE=image/png:https://fortatkinsonpac.com/wp-content/uploads/2023/03/3.png
END:VEVENT
BEGIN:VEVENT
DTSTART;TZID=America/Chicago:20230423T140000
DTEND;TZID=America/Chicago:20230423T160000
DTSTAMP:20260425T120401
CREATED:20230319T145530Z
LAST-MODIFIED:20230319T145533Z
UID:1790-1682258400-1682265600@fortatkinsonpac.com
SUMMARY:Clue (High School Edition)
DESCRIPTION:Based on the iconic 1985 Paramount movie which was inspired by the classic Hasbro board game\, Clue is a hilarious farce-meets-murder mystery. The tale begins at a remote mansion\, where six mysterious guests assemble for an unusual dinner party where murder and blackmail are on the menu. When their host turns up dead\, they all become suspects. Led by Wadsworth – the butler\, Miss Scarlett\, Professor Plum\, Mrs. White\, Mr. Green\, Mrs. Peacock and Colonel Mustard race to find the killer as the body count stacks up. Clue is the comedy whodunit that will leave both cult-fans and newcomers in stitches as they try to figure out…WHO did it\, WHERE\, and with WHAT!
URL:https://fortatkinsonpac.com/event/clue-high-school-edition-3/
LOCATION:FCCU Performing Arts Center\, 925 Lexington Blvd\, Fort Atkinson\, WI\, 53538\, United States
CATEGORIES:Comedy,Featured,School District,Theater
ATTACH;FMTTYPE=image/png:https://fortatkinsonpac.com/wp-content/uploads/2023/03/3.png
END:VEVENT
BEGIN:VEVENT
DTSTART;TZID=America/Chicago:20230424T180000
DTEND;TZID=America/Chicago:20230424T200000
DTSTAMP:20260425T120401
CREATED:20230424T144018Z
LAST-MODIFIED:20230424T144020Z
UID:1816-1682359200-1682366400@fortatkinsonpac.com
SUMMARY:National Honors Society Banquet
DESCRIPTION:
URL:https://fortatkinsonpac.com/event/national-honors-society-banquet/
LOCATION:FCCU Performing Arts Center\, 925 Lexington Blvd\, Fort Atkinson\, WI\, 53538\, United States
CATEGORIES:Educational,School District
ATTACH;FMTTYPE=image/png:https://fortatkinsonpac.com/wp-content/uploads/2023/04/Copy-of-NHSBannerProjector.png
END:VEVENT
BEGIN:VEVENT
DTSTART;TZID=America/Chicago:20230428T190000
DTEND;TZID=America/Chicago:20230428T210000
DTSTAMP:20260425T120401
CREATED:20230320T123120Z
LAST-MODIFIED:20230320T123122Z
UID:1794-1682708400-1682715600@fortatkinsonpac.com
SUMMARY:Blather\, Blarney\, & Balderdash (Youth FACT)
DESCRIPTION:YouthFACT is ecstatic to be returning to the stage in 2023 with the light-hearted play Blather\, Blarney\, and Balderdash\, written by Patrick Rainville Dorn. \n\n\n\n​Irish folk and fairy tales collide when a trio of witty and wise leprechauns\, Blather\, Blarney and Balderdash\, assisted by the wee folk of Ireland\, help tongue-tied shepherd\, Fin O’Grady\, learn to tell a story in order to win the hand of his one true love\, Pegeen. This uplifting comedy combines clever dialogue with humor and features numerous ‘showcase’ roles so that every child in the cast has a chance to shine. \n\n\n\n​Directed by Jodi Ratcliff \n\n\n\nProduced by special arrangement with Pioneer Drama Service\, Inc.\, Denver\, CO \n\n\n\nOrganized By\n\n\n\n\n\nVenue
URL:https://fortatkinsonpac.com/event/blather-blarney-balderdash-youth-fact/
LOCATION:Luther Elementary School\, 205 Park St.\, Fort Atkinson\, Wisconsin\, 53538\, United States
CATEGORIES:Theater
ATTACH;FMTTYPE=image/jpeg:https://fortatkinsonpac.com/wp-content/uploads/2023/03/blather-blarney-balderdash.jpg
ORGANIZER;CN="Fort Atkinson Community Theater":MAILTO:board@fortfact.org
END:VEVENT
BEGIN:VEVENT
DTSTART;TZID=America/Chicago:20230429T190000
DTEND;TZID=America/Chicago:20230429T210000
DTSTAMP:20260425T120401
CREATED:20230320T123411Z
LAST-MODIFIED:20230320T123414Z
UID:1802-1682794800-1682802000@fortatkinsonpac.com
SUMMARY:Blather\, Blarney\, & Balderdash (YouthFACT)
DESCRIPTION:YouthFACT is ecstatic to be returning to the stage in 2023 with the light-hearted play Blather\, Blarney\, and Balderdash\, written by Patrick Rainville Dorn. \n\n\n\n​Irish folk and fairy tales collide when a trio of witty and wise leprechauns\, Blather\, Blarney and Balderdash\, assisted by the wee folk of Ireland\, help tongue-tied shepherd\, Fin O’Grady\, learn to tell a story in order to win the hand of his one true love\, Pegeen. This uplifting comedy combines clever dialogue with humor and features numerous ‘showcase’ roles so that every child in the cast has a chance to shine. \n\n\n\n​Directed by Jodi Ratcliff \n\n\n\nProduced by special arrangement with Pioneer Drama Service\, Inc.\, Denver\, CO \n\n\n\nOrganized By\n\n\n\n\n\nVenue
URL:https://fortatkinsonpac.com/event/blather-blarney-balderdash-youthfact/
LOCATION:Luther Elementary School\, 205 Park St.\, Fort Atkinson\, Wisconsin\, 53538\, United States
CATEGORIES:Theater
ATTACH;FMTTYPE=image/jpeg:https://fortatkinsonpac.com/wp-content/uploads/2023/03/blather-blarney-balderdash.jpg
END:VEVENT
BEGIN:VEVENT
DTSTART;TZID=America/Chicago:20230430T140000
DTEND;TZID=America/Chicago:20230430T160000
DTSTAMP:20260425T120401
CREATED:20230320T123620Z
LAST-MODIFIED:20230320T123624Z
UID:1804-1682863200-1682870400@fortatkinsonpac.com
SUMMARY:Blather\, Blarney\, & Balderdash (YouthFACT)
DESCRIPTION:YouthFACT is ecstatic to be returning to the stage in 2023 with the light-hearted play Blather\, Blarney\, and Balderdash\, written by Patrick Rainville Dorn. \n\n\n\n​Irish folk and fairy tales collide when a trio of witty and wise leprechauns\, Blather\, Blarney and Balderdash\, assisted by the wee folk of Ireland\, help tongue-tied shepherd\, Fin O’Grady\, learn to tell a story in order to win the hand of his one true love\, Pegeen. This uplifting comedy combines clever dialogue with humor and features numerous ‘showcase’ roles so that every child in the cast has a chance to shine. \n\n\n\n​Directed by Jodi Ratcliff \n\n\n\nProduced by special arrangement with Pioneer Drama Service\, Inc.\, Denver\, CO \n\n\n\nOrganized By\n\n\n\n\n\nVenue
URL:https://fortatkinsonpac.com/event/blather-blarney-balderdash-youthfact-2/
LOCATION:Luther Elementary School\, 205 Park St.\, Fort Atkinson\, Wisconsin\, 53538\, United States
CATEGORIES:Featured,Theater
ATTACH;FMTTYPE=image/jpeg:https://fortatkinsonpac.com/wp-content/uploads/2023/03/blather-blarney-balderdash.jpg
END:VEVENT
END:VCALENDAR