BEGIN:VCALENDAR
VERSION:2.0
PRODID:-//Fort Atkinson Performing Arts Center - ECPv6.15.17.1//NONSGML v1.0//EN
CALSCALE:GREGORIAN
METHOD:PUBLISH
X-ORIGINAL-URL:https://fortatkinsonpac.com
X-WR-CALDESC:Events for Fort Atkinson Performing Arts Center
REFRESH-INTERVAL;VALUE=DURATION:PT1H
X-Robots-Tag:noindex
X-PUBLISHED-TTL:PT1H
BEGIN:VTIMEZONE
TZID:America/Chicago
BEGIN:DAYLIGHT
TZOFFSETFROM:-0600
TZOFFSETTO:-0500
TZNAME:CDT
DTSTART:20250309T080000
END:DAYLIGHT
BEGIN:STANDARD
TZOFFSETFROM:-0500
TZOFFSETTO:-0600
TZNAME:CST
DTSTART:20251102T070000
END:STANDARD
BEGIN:DAYLIGHT
TZOFFSETFROM:-0600
TZOFFSETTO:-0500
TZNAME:CDT
DTSTART:20260308T080000
END:DAYLIGHT
BEGIN:STANDARD
TZOFFSETFROM:-0500
TZOFFSETTO:-0600
TZNAME:CST
DTSTART:20261101T070000
END:STANDARD
BEGIN:DAYLIGHT
TZOFFSETFROM:-0600
TZOFFSETTO:-0500
TZNAME:CDT
DTSTART:20270314T080000
END:DAYLIGHT
BEGIN:STANDARD
TZOFFSETFROM:-0500
TZOFFSETTO:-0600
TZNAME:CST
DTSTART:20271107T070000
END:STANDARD
END:VTIMEZONE
BEGIN:VEVENT
DTSTART;TZID=America/Chicago:20260520T183000
DTEND;TZID=America/Chicago:20260520T220000
DTSTAMP:20260421T061706
CREATED:20251107T235337Z
LAST-MODIFIED:20251107T235514Z
UID:2245-1779301800-1779314400@fortatkinsonpac.com
SUMMARY:FAHS Senior Scholarship Awards Ceremony
DESCRIPTION:The Fort Atkinson High School Senior Scholarship Awards celebrate graduating students’ hard work and achievements\, recognizing recipients of thousands of dollars in scholarships that support their next steps in education and career pursuits.
URL:https://fortatkinsonpac.com/event/fahs-senior-scholarship-awards-ceremony/
LOCATION:FCCU Performing Arts Center\, 925 Lexington Blvd\, Fort Atkinson\, WI\, 53538\, United States
CATEGORIES:Ceremony,Educational,School District
ATTACH;FMTTYPE=image/jpeg:https://fortatkinsonpac.com/wp-content/uploads/2025/11/SR-scholarship-awards.jpg
END:VEVENT
BEGIN:VEVENT
DTSTART;TZID=America/Chicago:20260521T180000
DTEND;TZID=America/Chicago:20260521T190000
DTSTAMP:20260421T061706
CREATED:20251107T235742Z
LAST-MODIFIED:20251107T235827Z
UID:2250-1779386400-1779390000@fortatkinsonpac.com
SUMMARY:FASD All-Schools 5th Grade Band & Orchestra Spring Concert
DESCRIPTION:The Fort Atkinson School District’s 5th Grade Combined Spring Concert brings together students from all four schools for a joyful celebration of music\, featuring spirited performances that highlight their talents.
URL:https://fortatkinsonpac.com/event/fasd-all-schools-5th-grade-band-orchestra-spring-concert/
LOCATION:FCCU Performing Arts Center\, 925 Lexington Blvd\, Fort Atkinson\, WI\, 53538\, United States
CATEGORIES:Music,School District,Winter Performance
ATTACH;FMTTYPE=image/jpeg:https://fortatkinsonpac.com/wp-content/uploads/2025/11/5th-GR-Band-Orchestra-Concert-Thumb.jpg
END:VEVENT
BEGIN:VEVENT
DTSTART;TZID=America/Chicago:20260522T090000
DTEND;TZID=America/Chicago:20260522T110000
DTSTAMP:20260421T061706
CREATED:20251108T000648Z
LAST-MODIFIED:20251108T000652Z
UID:2261-1779440400-1779447600@fortatkinsonpac.com
SUMMARY:FASD Rock Day
DESCRIPTION:The Fort Atkinson High School Veterans Celebration honors local veterans from the community\, expressing gratitude for their service and sacrifices while bringing students and residents together to celebrate their dedication to our country.
URL:https://fortatkinsonpac.com/event/fasd-rock-day/
LOCATION:FCCU Performing Arts Center\, 925 Lexington Blvd\, Fort Atkinson\, WI\, 53538\, United States
CATEGORIES:Band,Ceremony,Choir,Educational,Music,School District
ATTACH;FMTTYPE=image/png:https://fortatkinsonpac.com/wp-content/uploads/2025/11/rock-day-thumb.png
END:VEVENT
BEGIN:VEVENT
DTSTART;TZID=America/Chicago:20260526T190000
DTEND;TZID=America/Chicago:20260526T210000
DTSTAMP:20260421T061706
CREATED:20251108T001015Z
LAST-MODIFIED:20251108T001018Z
UID:2265-1779822000-1779829200@fortatkinsonpac.com
SUMMARY:FASD's Middle School Spring Orchestra Concert
DESCRIPTION:The Fort Atkinson Middle School Spring ORCHESTRA Concert brings together student musicians for an uplifting celebration of the season\, featuring a variety of performances that highlight their growth\, talent\, and love of music.
URL:https://fortatkinsonpac.com/event/fasds-middle-school-spring-orchestra-concert/
LOCATION:FCCU Performing Arts Center\, 925 Lexington Blvd\, Fort Atkinson\, WI\, 53538\, United States
CATEGORIES:Educational,Music,Orchestra,School District
ATTACH;FMTTYPE=image/jpeg:https://fortatkinsonpac.com/wp-content/uploads/2025/11/5th-GR-Band-Orchestra-Concert-Thumb.jpg
END:VEVENT
BEGIN:VEVENT
DTSTART;TZID=America/Chicago:20260527T180000
DTEND;TZID=America/Chicago:20260527T210000
DTSTAMP:20260421T061706
CREATED:20251108T001435Z
LAST-MODIFIED:20251108T001437Z
UID:2267-1779904800-1779915600@fortatkinsonpac.com
SUMMARY:FAHS Ernie Pope Art Show and Awards Ceremony
DESCRIPTION:The Fort Atkinson Art Student Celebration and Awards Ceremony honors the creativity and achievements of students across the district\, showcasing their artwork and recognizing outstanding talent and dedication in the visual arts.
URL:https://fortatkinsonpac.com/event/fahs-ernie-pope-art-show-and-awards-ceremony/
LOCATION:FCCU Performing Arts Center\, 925 Lexington Blvd\, Fort Atkinson\, WI\, 53538\, United States
CATEGORIES:Ceremony,Educational,School District,Visual Arts
ATTACH;FMTTYPE=image/jpeg:https://fortatkinsonpac.com/wp-content/uploads/2025/11/PROM-2025-V2.jpg
END:VEVENT
BEGIN:VEVENT
DTSTART;TZID=America/Chicago:20260530T150000
DTEND;TZID=America/Chicago:20260530T210000
DTSTAMP:20260421T061706
CREATED:20250530T151950Z
LAST-MODIFIED:20251108T001620Z
UID:2123-1780153200-1780174800@fortatkinsonpac.com
SUMMARY:CODA
DESCRIPTION:Join the Fort Atkinson High School Performing Arts students as they perform for their final time this school year.
URL:https://fortatkinsonpac.com/event/coda-3/
LOCATION:FCCU Performing Arts Center\, 925 Lexington Blvd\, Fort Atkinson\, WI\, 53538\, United States
CATEGORIES:Band,Choir,Featured,Jazz,Music,School District,Showchoir
ATTACH;FMTTYPE=image/jpeg:https://fortatkinsonpac.com/wp-content/uploads/2023/05/hqdefault.jpg
END:VEVENT
BEGIN:VEVENT
DTSTART;TZID=America/Chicago:20260603T180000
DTEND;TZID=America/Chicago:20260603T200000
DTSTAMP:20260421T061706
CREATED:20251108T001942Z
LAST-MODIFIED:20251108T001944Z
UID:2270-1780509600-1780516800@fortatkinsonpac.com
SUMMARY:FAHS Athletic Awards Ceremony
DESCRIPTION:The Fort Atkinson High School Athletic Awards Ceremony celebrates the dedication\, skill\, and achievements of student-athletes\, recognizing their hard work\, sportsmanship\, and contributions to the school’s athletic programs.
URL:https://fortatkinsonpac.com/event/fahs-athletic-awards-ceremony/
LOCATION:FCCU Performing Arts Center\, 925 Lexington Blvd\, Fort Atkinson\, WI\, 53538\, United States
CATEGORIES:Athletics,Ceremony,School District
ATTACH;FMTTYPE=image/jpeg:https://fortatkinsonpac.com/wp-content/uploads/2025/11/athletics-thumb.jpg
END:VEVENT
BEGIN:VEVENT
DTSTART;TZID=America/Chicago:20260607T130000
DTEND;TZID=America/Chicago:20260607T160000
DTSTAMP:20260421T061706
CREATED:20251108T002302Z
LAST-MODIFIED:20251108T002304Z
UID:2272-1780837200-1780848000@fortatkinsonpac.com
SUMMARY:FAHS 2026 Graduation!
DESCRIPTION:The Fort Atkinson High School 2026 Graduation Ceremony honors the accomplishments of the graduating class\, celebrating their hard work\, dedication\, and the exciting journey ahead as they move forward into the next chapter of their lives.
URL:https://fortatkinsonpac.com/event/fahs-2026-graduation/
LOCATION:FCCU Performing Arts Center\, 925 Lexington Blvd\, Fort Atkinson\, WI\, 53538\, United States
CATEGORIES:Athletics,Ceremony,Educational,School District
ATTACH;FMTTYPE=image/png:https://fortatkinsonpac.com/wp-content/uploads/2025/11/graduation-thumb.png
END:VEVENT
BEGIN:VEVENT
DTSTART;TZID=America/Chicago:20260802T183000
DTEND;TZID=America/Chicago:20260802T210000
DTSTAMP:20260421T061706
CREATED:20260331T221726Z
LAST-MODIFIED:20260414T213428Z
UID:2360-1785695400-1785704400@fortatkinsonpac.com
SUMMARY:Kids From Wisconsin
DESCRIPTION:America’s Soundtrack; the Pulse of a Nation \n\n\n\nOur country’s fabric is interwoven with the sounds and rhythms of our unique music genres that continue to shape our identity and unite generations. Join Kids From Wisconsin in their 58th season as we honor the 250th anniversary of this great nation with America’s great composers\, songwriters\, musicians and instrumentalists. Our show will salute their creativity\, innovation\, and unforgettable contributions to the world of music. From the smoky pulse of rhythm and blues to the soaring spirit of jazz\, from the electric fire of rock and roll to the raw power of soul\, and from chart-topping pop to timeless folk\,  country and classic Broadway\, this live show—brought to life by Wisconsin’s finest young performers—ignites the very heartbeat of American music.
URL:https://fortatkinsonpac.com/event/2360/
LOCATION:FCCU PAC at Fort Atkinson High School\, 925 Lexington Ave\, Fort Atkinson\, Wisconsin\, 53538
CATEGORIES:Dance,Musical,Theater
ATTACH;FMTTYPE=image/png:https://fortatkinsonpac.com/wp-content/uploads/2026/03/Kids-from-WI-2026-Logo.png
ORGANIZER;CN="Kids From Wisconsin":MAILTO:info@kidsfromwisconsin.org
END:VEVENT
END:VCALENDAR