BEGIN:VCALENDAR
VERSION:2.0
PRODID:-//Fort Atkinson Performing Arts Center - ECPv6.15.17.1//NONSGML v1.0//EN
CALSCALE:GREGORIAN
METHOD:PUBLISH
X-WR-CALNAME:Fort Atkinson Performing Arts Center
X-ORIGINAL-URL:https://fortatkinsonpac.com
X-WR-CALDESC:Events for Fort Atkinson Performing Arts Center
REFRESH-INTERVAL;VALUE=DURATION:PT1H
X-Robots-Tag:noindex
X-PUBLISHED-TTL:PT1H
BEGIN:VTIMEZONE
TZID:America/Chicago
BEGIN:DAYLIGHT
TZOFFSETFROM:-0600
TZOFFSETTO:-0500
TZNAME:CDT
DTSTART:20210314T080000
END:DAYLIGHT
BEGIN:STANDARD
TZOFFSETFROM:-0500
TZOFFSETTO:-0600
TZNAME:CST
DTSTART:20211107T070000
END:STANDARD
BEGIN:DAYLIGHT
TZOFFSETFROM:-0600
TZOFFSETTO:-0500
TZNAME:CDT
DTSTART:20220313T080000
END:DAYLIGHT
BEGIN:STANDARD
TZOFFSETFROM:-0500
TZOFFSETTO:-0600
TZNAME:CST
DTSTART:20221106T070000
END:STANDARD
BEGIN:DAYLIGHT
TZOFFSETFROM:-0600
TZOFFSETTO:-0500
TZNAME:CDT
DTSTART:20230312T080000
END:DAYLIGHT
BEGIN:STANDARD
TZOFFSETFROM:-0500
TZOFFSETTO:-0600
TZNAME:CST
DTSTART:20231105T070000
END:STANDARD
END:VTIMEZONE
BEGIN:VEVENT
DTSTART;TZID=America/Chicago:20221117T193000
DTEND;TZID=America/Chicago:20221117T213000
DTSTAMP:20260421T050824
CREATED:20221028T185100Z
LAST-MODIFIED:20221117T163710Z
UID:1494-1668713400-1668720600@fortatkinsonpac.com
SUMMARY:Elf The Musical
DESCRIPTION:Come join the talented cast of Fort Atkinson High School as they present Elf: The Musical. \n\n\n\nBuddy\, a young orphan\, mistakenly crawls into Santa’s bag of gifts and is transported to the North Pole. The would-be elf is raised\, unaware that he is actually a human until his enormous size and poor toy-making abilities cause him to face the truth. With Santa’s permission\, Buddy embarks on a journey to New York City to find his birth father and discover his true identity. Faced with the harsh realities that his father is on the naughty list and his half-brother doesn’t even believe in Santa\, Buddy is determined to win over his new family and help New York remember the true meaning of Christmas. \n\n\n\nThis modern-day holiday classic is sure to make everyone embrace their inner elf. After all\, the best way to spread Christmas Cheer is singing loud for all to hear. \n\n\n\n\n\n\n\n\n\n\nELF PlaybillDownload
URL:https://fortatkinsonpac.com/event/elf-the-musical/
LOCATION:FCCU Performing Arts Center\, 925 Lexington Blvd\, Fort Atkinson\, WI\, 53538\, United States
CATEGORIES:Featured,Musical,Theater
ATTACH;FMTTYPE=image/jpeg:https://fortatkinsonpac.com/wp-content/uploads/2022/10/ELF_Musical.jpg
END:VEVENT
BEGIN:VEVENT
DTSTART;TZID=America/Chicago:20221020T190000
DTEND;TZID=America/Chicago:20221020T203000
DTSTAMP:20260421T050824
CREATED:20221003T183842Z
LAST-MODIFIED:20221003T184551Z
UID:1392-1666292400-1666297800@fortatkinsonpac.com
SUMMARY:Middle School Fall Band & Orchestra Concert
DESCRIPTION:Join the Fort Atkinson Middle School band and orchestra for their Fall Concert during the 2022-2023 performance season. \n\n\n\n\n\n\n\n\n\n   \n       \n   \n   \n       Powered by SimpleTix
URL:https://fortatkinsonpac.com/event/middle-school-fall-band-orchestra-concert/
LOCATION:FCCU Performing Arts Center\, 925 Lexington Blvd\, Fort Atkinson\, WI\, 53538\, United States
CATEGORIES:Band,Music,Orchestra
ATTACH;FMTTYPE=image/jpeg:https://fortatkinsonpac.com/wp-content/uploads/2022/10/FA-Performing-Arts.jpg
END:VEVENT
BEGIN:VEVENT
DTSTART;TZID=America/Chicago:20221018T190000
DTEND;TZID=America/Chicago:20221018T210000
DTSTAMP:20260421T050824
CREATED:20221003T165419Z
LAST-MODIFIED:20221003T182237Z
UID:1343-1666119600-1666126800@fortatkinsonpac.com
SUMMARY:High School Choir & Orchestra Performance
DESCRIPTION:Join the Fort Atkinson High School Choir and Orchestra for their 2022-2023 season. \n\n\n\n\n\n\n\n\n\n   \n       \n   \n   \n       Powered by SimpleTix
URL:https://fortatkinsonpac.com/event/high-school-choir-orchestra-performance/
LOCATION:FCCU Performing Arts Center\, 925 Lexington Blvd\, Fort Atkinson\, WI\, 53538\, United States
CATEGORIES:Choir,Music,Orchestra
ATTACH;FMTTYPE=image/jpeg:https://fortatkinsonpac.com/wp-content/uploads/2022/10/FA-Performing-Arts.jpg
END:VEVENT
BEGIN:VEVENT
DTSTART;TZID=America/Chicago:20221013T190000
DTEND;TZID=America/Chicago:20221013T200000
DTSTAMP:20260421T050824
CREATED:20221003T182917Z
LAST-MODIFIED:20221003T183442Z
UID:1380-1665687600-1665691200@fortatkinsonpac.com
SUMMARY:Middle School Fall Choir Concert
DESCRIPTION:Powered by SimpleTix\n   \n\n\n\n\n\n\n\n\nOrganized By
URL:https://fortatkinsonpac.com/event/middle-school-fall-choir-concert/
LOCATION:FCCU Performing Arts Center\, 925 Lexington Blvd\, Fort Atkinson\, WI\, 53538\, United States
END:VEVENT
BEGIN:VEVENT
DTSTART;TZID=America/Chicago:20221011T190000
DTEND;TZID=America/Chicago:20221011T200000
DTSTAMP:20260421T050824
CREATED:20221003T164606Z
LAST-MODIFIED:20221003T182650Z
UID:1340-1665514800-1665518400@fortatkinsonpac.com
SUMMARY:High School Band Banquet & Thank You Concert
DESCRIPTION:Join the Fort Atkinson High School band as they perform for their 2022-2023 season. \n\n\n\n\n\n\n\n   \n       \n   \n   \n       Powered by SimpleTix
URL:https://fortatkinsonpac.com/event/high-school-band-concert/
LOCATION:FCCU Performing Arts Center\, 925 Lexington Blvd\, Fort Atkinson\, WI\, 53538\, United States
CATEGORIES:Band,Music
ATTACH;FMTTYPE=image/jpeg:https://fortatkinsonpac.com/wp-content/uploads/2022/10/FA-Band.jpg
END:VEVENT
END:VCALENDAR