BEGIN:VCALENDAR
VERSION:2.0
PRODID:-//Fort Atkinson Performing Arts Center - ECPv6.15.17.1//NONSGML v1.0//EN
CALSCALE:GREGORIAN
METHOD:PUBLISH
X-WR-CALNAME:Fort Atkinson Performing Arts Center
X-ORIGINAL-URL:https://fortatkinsonpac.com
X-WR-CALDESC:Events for Fort Atkinson Performing Arts Center
REFRESH-INTERVAL;VALUE=DURATION:PT1H
X-Robots-Tag:noindex
X-PUBLISHED-TTL:PT1H
BEGIN:VTIMEZONE
TZID:America/Chicago
BEGIN:DAYLIGHT
TZOFFSETFROM:-0600
TZOFFSETTO:-0500
TZNAME:CDT
DTSTART:20240310T080000
END:DAYLIGHT
BEGIN:STANDARD
TZOFFSETFROM:-0500
TZOFFSETTO:-0600
TZNAME:CST
DTSTART:20241103T070000
END:STANDARD
BEGIN:DAYLIGHT
TZOFFSETFROM:-0600
TZOFFSETTO:-0500
TZNAME:CDT
DTSTART:20250309T080000
END:DAYLIGHT
BEGIN:STANDARD
TZOFFSETFROM:-0500
TZOFFSETTO:-0600
TZNAME:CST
DTSTART:20251102T070000
END:STANDARD
BEGIN:DAYLIGHT
TZOFFSETFROM:-0600
TZOFFSETTO:-0500
TZNAME:CDT
DTSTART:20260308T080000
END:DAYLIGHT
BEGIN:STANDARD
TZOFFSETFROM:-0500
TZOFFSETTO:-0600
TZNAME:CST
DTSTART:20261101T070000
END:STANDARD
END:VTIMEZONE
BEGIN:VEVENT
DTSTART;TZID=America/Chicago:20250314T190000
DTEND;TZID=America/Chicago:20250314T210000
DTSTAMP:20260421T202039
CREATED:20250307T184914Z
LAST-MODIFIED:20250307T184918Z
UID:2082-1741978800-1741986000@fortatkinsonpac.com
SUMMARY:Fort Atkinson Middle School Presents: Willy Wonka Jr.
DESCRIPTION:The delicious adventures of Willy Wonka’s chocolate factory light up the stage in this captivating adaptation of Roald Dahl’s fantastical tale. Featuring the enchanting songs from the 1971 film\, in addition to a host of fun new songs\, Roald Dahl’s Willy Wonka JR. is a scrumdidilyumptious musical guaranteed to delight everyone’s sweet tooth.  \n\n\n\nRoald Dahl’s Willy Wonka JR. follows enigmatic candy manufacturer Willy Wonka as he stages a contest by hiding golden tickets in five of his scrumptious candy bars. Whomever comes up with these tickets will win a free tour of the Wonka factory\, as well as a lifetime supply of candy. Four of the five winning children are insufferable brats\, but the fifth is a likeable young lad named Charlie Bucket\, who takes the tour in the company of his equally amiable grandfather. The children must learn to follow Mr. Wonka’s rules in the factory — or suffer the consequences. 
URL:https://fortatkinsonpac.com/event/fort-atkinson-middle-school-presents-willy-wonka-jr/
LOCATION:FCCU Performing Arts Center\, 925 Lexington Blvd\, Fort Atkinson\, WI\, 53538\, United States
CATEGORIES:Featured,Musical,School District,Theater
ATTACH;FMTTYPE=image/jpeg:https://fortatkinsonpac.com/wp-content/uploads/2025/03/willy-wonka-header.jpg
END:VEVENT
BEGIN:VEVENT
DTSTART;TZID=America/Chicago:20250315T140000
DTEND;TZID=America/Chicago:20250315T160000
DTSTAMP:20260421T202039
CREATED:20250307T185102Z
LAST-MODIFIED:20250307T185105Z
UID:2085-1742047200-1742054400@fortatkinsonpac.com
SUMMARY:Fort Atkinson Middle School Presents: Willy Wonka Jr.
DESCRIPTION:The delicious adventures of Willy Wonka’s chocolate factory light up the stage in this captivating adaptation of Roald Dahl’s fantastical tale. Featuring the enchanting songs from the 1971 film\, in addition to a host of fun new songs\, Roald Dahl’s Willy Wonka JR. is a scrumdidilyumptious musical guaranteed to delight everyone’s sweet tooth.  \n\n\n\nRoald Dahl’s Willy Wonka JR. follows enigmatic candy manufacturer Willy Wonka as he stages a contest by hiding golden tickets in five of his scrumptious candy bars. Whomever comes up with these tickets will win a free tour of the Wonka factory\, as well as a lifetime supply of candy. Four of the five winning children are insufferable brats\, but the fifth is a likeable young lad named Charlie Bucket\, who takes the tour in the company of his equally amiable grandfather. The children must learn to follow Mr. Wonka’s rules in the factory — or suffer the consequences. 
URL:https://fortatkinsonpac.com/event/fort-atkinson-middle-school-presents-willy-wonka-jr-2/
LOCATION:FCCU Performing Arts Center\, 925 Lexington Blvd\, Fort Atkinson\, WI\, 53538\, United States
CATEGORIES:Featured,Musical,School District,Theater
ATTACH;FMTTYPE=image/jpeg:https://fortatkinsonpac.com/wp-content/uploads/2025/03/willy-wonka-header.jpg
END:VEVENT
END:VCALENDAR