BEGIN:VCALENDAR
VERSION:2.0
PRODID:-//Fort Atkinson Performing Arts Center - ECPv6.15.17.1//NONSGML v1.0//EN
CALSCALE:GREGORIAN
METHOD:PUBLISH
X-WR-CALNAME:Fort Atkinson Performing Arts Center
X-ORIGINAL-URL:https://fortatkinsonpac.com
X-WR-CALDESC:Events for Fort Atkinson Performing Arts Center
REFRESH-INTERVAL;VALUE=DURATION:PT1H
X-Robots-Tag:noindex
X-PUBLISHED-TTL:PT1H
BEGIN:VTIMEZONE
TZID:America/Chicago
BEGIN:DAYLIGHT
TZOFFSETFROM:-0600
TZOFFSETTO:-0500
TZNAME:CDT
DTSTART:20230312T080000
END:DAYLIGHT
BEGIN:STANDARD
TZOFFSETFROM:-0500
TZOFFSETTO:-0600
TZNAME:CST
DTSTART:20231105T070000
END:STANDARD
BEGIN:DAYLIGHT
TZOFFSETFROM:-0600
TZOFFSETTO:-0500
TZNAME:CDT
DTSTART:20240310T080000
END:DAYLIGHT
BEGIN:STANDARD
TZOFFSETFROM:-0500
TZOFFSETTO:-0600
TZNAME:CST
DTSTART:20241103T070000
END:STANDARD
BEGIN:DAYLIGHT
TZOFFSETFROM:-0600
TZOFFSETTO:-0500
TZNAME:CDT
DTSTART:20250309T080000
END:DAYLIGHT
BEGIN:STANDARD
TZOFFSETFROM:-0500
TZOFFSETTO:-0600
TZNAME:CST
DTSTART:20251102T070000
END:STANDARD
END:VTIMEZONE
BEGIN:VEVENT
DTSTART;TZID=America/Chicago:20241117T140000
DTEND;TZID=America/Chicago:20241117T170000
DTSTAMP:20260422T061613
CREATED:20241114T182326Z
LAST-MODIFIED:20241114T182422Z
UID:2043-1731852000-1731862800@fortatkinsonpac.com
SUMMARY:Cinderella Preview (Name Your Price Tickets)
DESCRIPTION:
URL:https://fortatkinsonpac.com/event/cinderellanov17/
LOCATION:FCCU Performing Arts Center\, 925 Lexington Blvd\, Fort Atkinson\, WI\, 53538\, United States
CATEGORIES:Featured,Musical,Theater
END:VEVENT
BEGIN:VEVENT
DTSTART;TZID=America/Chicago:20241121T190000
DTEND;TZID=America/Chicago:20241121T220000
DTSTAMP:20260422T061613
CREATED:20241105T191059Z
LAST-MODIFIED:20241118T225543Z
UID:2034-1732215600-1732226400@fortatkinsonpac.com
SUMMARY:Cinderella
DESCRIPTION:
URL:https://fortatkinsonpac.com/event/cinderella-nov21/
LOCATION:FCCU Performing Arts Center\, 925 Lexington Blvd\, Fort Atkinson\, WI\, 53538\, United States
CATEGORIES:Musical,Theater
ATTACH;FMTTYPE=image/png:https://fortatkinsonpac.com/wp-content/uploads/2024/11/Cinderella-Poster-Socials.png
END:VEVENT
BEGIN:VEVENT
DTSTART;TZID=America/Chicago:20241122T190000
DTEND;TZID=America/Chicago:20241122T220000
DTSTAMP:20260422T061613
CREATED:20241105T191256Z
LAST-MODIFIED:20241118T225448Z
UID:2036-1732302000-1732312800@fortatkinsonpac.com
SUMMARY:Cinderella
DESCRIPTION:
URL:https://fortatkinsonpac.com/event/cinderella-nov22/
LOCATION:FCCU Performing Arts Center\, 925 Lexington Blvd\, Fort Atkinson\, WI\, 53538\, United States
CATEGORIES:Musical,Theater
ATTACH;FMTTYPE=image/png:https://fortatkinsonpac.com/wp-content/uploads/2024/11/Cinderella-Poster-Socials.png
END:VEVENT
BEGIN:VEVENT
DTSTART;TZID=America/Chicago:20241123T180000
DTEND;TZID=America/Chicago:20241123T210000
DTSTAMP:20260422T061613
CREATED:20241105T191551Z
LAST-MODIFIED:20241118T225333Z
UID:2038-1732384800-1732395600@fortatkinsonpac.com
SUMMARY:Cinderella
DESCRIPTION:
URL:https://fortatkinsonpac.com/event/cinderella-nov23/
LOCATION:FCCU Performing Arts Center\, 925 Lexington Blvd\, Fort Atkinson\, WI\, 53538\, United States
CATEGORIES:Musical,Theater
ATTACH;FMTTYPE=image/png:https://fortatkinsonpac.com/wp-content/uploads/2024/11/Cinderella-Poster-Socials.png
END:VEVENT
BEGIN:VEVENT
DTSTART;TZID=America/Chicago:20241124T140000
DTEND;TZID=America/Chicago:20241124T170000
DTSTAMP:20260422T061613
CREATED:20241105T191658Z
LAST-MODIFIED:20241118T225242Z
UID:2040-1732456800-1732467600@fortatkinsonpac.com
SUMMARY:Cinderella
DESCRIPTION:
URL:https://fortatkinsonpac.com/event/cinderella/
LOCATION:FCCU Performing Arts Center\, 925 Lexington Blvd\, Fort Atkinson\, WI\, 53538\, United States
CATEGORIES:Featured,Musical,Theater
ATTACH;FMTTYPE=image/png:https://fortatkinsonpac.com/wp-content/uploads/2024/11/Cinderella-Poster-Socials.png
END:VEVENT
END:VCALENDAR