BEGIN:VCALENDAR
VERSION:2.0
PRODID:-//Fort Atkinson Performing Arts Center - ECPv6.15.17.1//NONSGML v1.0//EN
CALSCALE:GREGORIAN
METHOD:PUBLISH
X-ORIGINAL-URL:https://fortatkinsonpac.com
X-WR-CALDESC:Events for Fort Atkinson Performing Arts Center
REFRESH-INTERVAL;VALUE=DURATION:PT1H
X-Robots-Tag:noindex
X-PUBLISHED-TTL:PT1H
BEGIN:VTIMEZONE
TZID:America/Chicago
BEGIN:DAYLIGHT
TZOFFSETFROM:-0600
TZOFFSETTO:-0500
TZNAME:CDT
DTSTART:20230312T080000
END:DAYLIGHT
BEGIN:STANDARD
TZOFFSETFROM:-0500
TZOFFSETTO:-0600
TZNAME:CST
DTSTART:20231105T070000
END:STANDARD
BEGIN:DAYLIGHT
TZOFFSETFROM:-0600
TZOFFSETTO:-0500
TZNAME:CDT
DTSTART:20240310T080000
END:DAYLIGHT
BEGIN:STANDARD
TZOFFSETFROM:-0500
TZOFFSETTO:-0600
TZNAME:CST
DTSTART:20241103T070000
END:STANDARD
BEGIN:DAYLIGHT
TZOFFSETFROM:-0600
TZOFFSETTO:-0500
TZNAME:CDT
DTSTART:20250309T080000
END:DAYLIGHT
BEGIN:STANDARD
TZOFFSETFROM:-0500
TZOFFSETTO:-0600
TZNAME:CST
DTSTART:20251102T070000
END:STANDARD
END:VTIMEZONE
BEGIN:VEVENT
DTSTART;TZID=America/Chicago:20240315T000000
DTEND;TZID=America/Chicago:20240316T235959
DTSTAMP:20260422T193328
CREATED:20240207T155343Z
LAST-MODIFIED:20240207T155640Z
UID:1957-1710460800-1710633599@fortatkinsonpac.com
SUMMARY:Frozen Jr. (March 15 & 16)
DESCRIPTION:March 15 | 7PM – 9PMMarch 16 | 2PM – 4PM\n\n\n\n \n\n\n\n\n                                \n\n\n\nFrozen JR. is based on the 2018 Broadway musical\, and brings Elsa\, Anna\, and the magical land of Arendelle to life\, onstage. The show features all of the memorable songs from the animated film\, with music and lyrics by Kristen Anderson-Lopez and Robert Lopez\, plus five new songs written for the Broadway production. \n\n\n\nA story of true love and acceptance between sisters\, Frozen JR. expands upon the emotional relationship and journey between Princesses Anna and Elsa. When faced with danger\, the two discover their hidden potential and the powerful bond of sisterhood. With a cast of beloved characters and loaded with magic\, adventure\, and plenty of humor\, Frozen JR. is sure to thaw even the coldest heart! 
URL:https://fortatkinsonpac.com/event/frozen-jr/
LOCATION:FCCU Performing Arts Center\, 925 Lexington Blvd\, Fort Atkinson\, WI\, 53538\, United States
CATEGORIES:Featured,Musical,School District,Theater
ATTACH;FMTTYPE=image/jpeg:https://fortatkinsonpac.com/wp-content/uploads/2024/02/frozen-jr.jpg
END:VEVENT
END:VCALENDAR