BEGIN:VCALENDAR
VERSION:2.0
PRODID:-//Fort Atkinson Performing Arts Center - ECPv6.15.17.1//NONSGML v1.0//EN
CALSCALE:GREGORIAN
METHOD:PUBLISH
X-WR-CALNAME:Fort Atkinson Performing Arts Center
X-ORIGINAL-URL:https://fortatkinsonpac.com
X-WR-CALDESC:Events for Fort Atkinson Performing Arts Center
REFRESH-INTERVAL;VALUE=DURATION:PT1H
X-Robots-Tag:noindex
X-PUBLISHED-TTL:PT1H
BEGIN:VTIMEZONE
TZID:America/Chicago
BEGIN:DAYLIGHT
TZOFFSETFROM:-0600
TZOFFSETTO:-0500
TZNAME:CDT
DTSTART:20230312T080000
END:DAYLIGHT
BEGIN:STANDARD
TZOFFSETFROM:-0500
TZOFFSETTO:-0600
TZNAME:CST
DTSTART:20231105T070000
END:STANDARD
BEGIN:DAYLIGHT
TZOFFSETFROM:-0600
TZOFFSETTO:-0500
TZNAME:CDT
DTSTART:20240310T080000
END:DAYLIGHT
BEGIN:STANDARD
TZOFFSETFROM:-0500
TZOFFSETTO:-0600
TZNAME:CST
DTSTART:20241103T070000
END:STANDARD
BEGIN:DAYLIGHT
TZOFFSETFROM:-0600
TZOFFSETTO:-0500
TZNAME:CDT
DTSTART:20250309T080000
END:DAYLIGHT
BEGIN:STANDARD
TZOFFSETFROM:-0500
TZOFFSETTO:-0600
TZNAME:CST
DTSTART:20251102T070000
END:STANDARD
END:VTIMEZONE
BEGIN:VEVENT
DTSTART;TZID=America/Chicago:20241205T180000
DTEND;TZID=America/Chicago:20241205T200000
DTSTAMP:20260421T104020
CREATED:20240903T184422Z
LAST-MODIFIED:20240903T184557Z
UID:2007-1733421600-1733428800@fortatkinsonpac.com
SUMMARY:Luther Elementary Winter Concert
DESCRIPTION:
URL:https://fortatkinsonpac.com/event/luther-elementary-winter-concert/
LOCATION:FCCU Performing Arts Center\, 925 Lexington Blvd\, Fort Atkinson\, WI\, 53538\, United States
CATEGORIES:School District,Winter Performance
ATTACH;FMTTYPE=image/png:https://fortatkinsonpac.com/wp-content/uploads/2022/10/1fort.png
END:VEVENT
BEGIN:VEVENT
DTSTART;TZID=America/Chicago:20241209T180000
DTEND;TZID=America/Chicago:20241209T200000
DTSTAMP:20260421T104020
CREATED:20240903T185053Z
LAST-MODIFIED:20240903T185056Z
UID:2012-1733767200-1733774400@fortatkinsonpac.com
SUMMARY:Barrie Elementary Winter Concert
DESCRIPTION:
URL:https://fortatkinsonpac.com/event/barrie-elementary-winter-concert-2/
LOCATION:FCCU Performing Arts Center\, 925 Lexington Blvd\, Fort Atkinson\, WI\, 53538\, United States
CATEGORIES:School District,Winter Performance
ATTACH;FMTTYPE=image/png:https://fortatkinsonpac.com/wp-content/uploads/2022/11/barrie_color-logo.png
END:VEVENT
BEGIN:VEVENT
DTSTART;TZID=America/Chicago:20241210T180000
DTEND;TZID=America/Chicago:20241210T200000
DTSTAMP:20260421T104020
CREATED:20240903T185611Z
LAST-MODIFIED:20240903T185615Z
UID:2014-1733853600-1733860800@fortatkinsonpac.com
SUMMARY:Rockwell Elementary Winter Concert
DESCRIPTION:
URL:https://fortatkinsonpac.com/event/rockwell-elementary-winter-concert-2/
LOCATION:FCCU Performing Arts Center\, 925 Lexington Blvd\, Fort Atkinson\, WI\, 53538\, United States
CATEGORIES:School District,Winter Performance
ATTACH;FMTTYPE=image/png:https://fortatkinsonpac.com/wp-content/uploads/2022/11/rockwell.png
END:VEVENT
BEGIN:VEVENT
DTSTART;TZID=America/Chicago:20241212T180000
DTEND;TZID=America/Chicago:20241212T200000
DTSTAMP:20260421T104020
CREATED:20240903T185931Z
LAST-MODIFIED:20240903T185936Z
UID:2016-1734026400-1734033600@fortatkinsonpac.com
SUMMARY:Purdy Elementary Winter Concert
DESCRIPTION:
URL:https://fortatkinsonpac.com/event/purdy-elementary-winter-concert-2/
LOCATION:FCCU Performing Arts Center\, 925 Lexington Blvd\, Fort Atkinson\, WI\, 53538\, United States
CATEGORIES:School District,Winter Performance
ATTACH;FMTTYPE=image/png:https://fortatkinsonpac.com/wp-content/uploads/2022/11/purdy-color.png
END:VEVENT
BEGIN:VEVENT
DTSTART;TZID=America/Chicago:20241215T140000
DTEND;TZID=America/Chicago:20241215T160000
DTSTAMP:20260421T104020
CREATED:20240903T190410Z
LAST-MODIFIED:20241214T164022Z
UID:2019-1734271200-1734278400@fortatkinsonpac.com
SUMMARY:Fort Atkinson High School Winter Concert
DESCRIPTION:Enjoying our livestream? Consider supporting our Fundraiser.\n\n\n\nDonate Here
URL:https://fortatkinsonpac.com/event/fort-atkinson-high-school-winter-concert-3/
LOCATION:FCCU Performing Arts Center\, 925 Lexington Blvd\, Fort Atkinson\, WI\, 53538\, United States
CATEGORIES:School District,Winter Performance
ATTACH;FMTTYPE=image/jpeg:https://fortatkinsonpac.com/wp-content/uploads/2022/10/FA-Performing-Arts.jpg
END:VEVENT
BEGIN:VEVENT
DTSTART;TZID=America/Chicago:20241217T190000
DTEND;TZID=America/Chicago:20241217T200000
DTSTAMP:20260421T104020
CREATED:20240903T191004Z
LAST-MODIFIED:20241217T194513Z
UID:2021-1734462000-1734465600@fortatkinsonpac.com
SUMMARY:Fort Atkinson Middle School Winter Concert
DESCRIPTION:Enjoying our livestream? Consider supporting our Fundraiser.\n\n\n\nDonate Here
URL:https://fortatkinsonpac.com/event/fort-atkinson-middle-school-winter-concert-2/
LOCATION:FCCU Performing Arts Center\, 925 Lexington Blvd\, Fort Atkinson\, WI\, 53538\, United States
CATEGORIES:School District,Winter Performance
ATTACH;FMTTYPE=image/png:https://fortatkinsonpac.com/wp-content/uploads/2022/11/LG_FAMS.png
END:VEVENT
END:VCALENDAR