BEGIN:VCALENDAR
VERSION:2.0
PRODID:-//Fort Atkinson Performing Arts Center - ECPv6.15.17.1//NONSGML v1.0//EN
CALSCALE:GREGORIAN
METHOD:PUBLISH
X-WR-CALNAME:Fort Atkinson Performing Arts Center
X-ORIGINAL-URL:https://fortatkinsonpac.com
X-WR-CALDESC:Events for Fort Atkinson Performing Arts Center
REFRESH-INTERVAL;VALUE=DURATION:PT1H
X-Robots-Tag:noindex
X-PUBLISHED-TTL:PT1H
BEGIN:VTIMEZONE
TZID:America/Chicago
BEGIN:DAYLIGHT
TZOFFSETFROM:-0600
TZOFFSETTO:-0500
TZNAME:CDT
DTSTART:20220313T080000
END:DAYLIGHT
BEGIN:STANDARD
TZOFFSETFROM:-0500
TZOFFSETTO:-0600
TZNAME:CST
DTSTART:20221106T070000
END:STANDARD
BEGIN:DAYLIGHT
TZOFFSETFROM:-0600
TZOFFSETTO:-0500
TZNAME:CDT
DTSTART:20230312T080000
END:DAYLIGHT
BEGIN:STANDARD
TZOFFSETFROM:-0500
TZOFFSETTO:-0600
TZNAME:CST
DTSTART:20231105T070000
END:STANDARD
BEGIN:DAYLIGHT
TZOFFSETFROM:-0600
TZOFFSETTO:-0500
TZNAME:CDT
DTSTART:20240310T080000
END:DAYLIGHT
BEGIN:STANDARD
TZOFFSETFROM:-0500
TZOFFSETTO:-0600
TZNAME:CST
DTSTART:20241103T070000
END:STANDARD
END:VTIMEZONE
BEGIN:VEVENT
DTSTART;TZID=America/Chicago:20230302T190000
DTEND;TZID=America/Chicago:20230302T210000
DTSTAMP:20260421T202547
CREATED:20230106T184857Z
LAST-MODIFIED:20230302T205945Z
UID:1661-1677783600-1677790800@fortatkinsonpac.com
SUMMARY:Festival of Choirs
DESCRIPTION:
URL:https://fortatkinsonpac.com/event/festival-of-choirs/
LOCATION:FCCU Performing Arts Center\, 925 Lexington Blvd\, Fort Atkinson\, WI\, 53538\, United States
CATEGORIES:Choir,Music,School District
ATTACH;FMTTYPE=image/jpeg:https://fortatkinsonpac.com/wp-content/uploads/2022/10/FA-Performing-Arts.jpg
END:VEVENT
BEGIN:VEVENT
DTSTART;TZID=America/Chicago:20230305T160000
DTEND;TZID=America/Chicago:20230305T190000
DTSTAMP:20260421T202547
CREATED:20230228T151613Z
LAST-MODIFIED:20230228T151616Z
UID:1760-1678032000-1678042800@fortatkinsonpac.com
SUMMARY:Orchestra Dessert
DESCRIPTION:The Fort Atkinson Orchestra Program is proud to present their annual Orchestra Dessert concert. Please consider joining for fantastic music and great food. Plus catch special guest Randy Sabien. \n\n\n\nRandy has over 40 years of performing experience as a contemporary violinist fromtouring as singer/songwriter Jim Post’s sideman\, recording with Greg Brown\,appearing on Austin City Limits with Kate Wolf\, guest on Prairie Home Companion\,shows with Corky Siegel\, to leading his own bands often featuring triple fiddles.Founded the string department at the Berklee College of Music in Boston in 1978then thirty years later headed the string department at McNally Smith College ofMusic in St. Paul. He is the author of the ground breaking jazz method for strings“Jazz Philharmonic” published by Alfred Music. He has recorded a dozen albumswhich are available online at randysabien.com.
URL:https://fortatkinsonpac.com/event/orchestra-dessert/
LOCATION:FCCU Performing Arts Center\, 925 Lexington Blvd\, Fort Atkinson\, WI\, 53538\, United States
CATEGORIES:Featured,Music,Orchestra,School District
ATTACH;FMTTYPE=image/jpeg:https://fortatkinsonpac.com/wp-content/uploads/2022/10/FA-Performing-Arts.jpg
END:VEVENT
BEGIN:VEVENT
DTSTART;TZID=America/Chicago:20230317T190000
DTEND;TZID=America/Chicago:20230317T210000
DTSTAMP:20260421T202547
CREATED:20230307T222100Z
LAST-MODIFIED:20230317T223636Z
UID:1765-1679079600-1679086800@fortatkinsonpac.com
SUMMARY:Annie Jr. Middle School Musical
DESCRIPTION:With equal measures of pluck and positivity\, little orphan Annie charms everyone’s hearts despite a next-to-nothing start in 1930s New York City. Annie is determined to find the parents who abandoned her years ago on the doorstep of an orphanage run by the cruel Miss Hannigan. Annie eventually foils Miss Hannigan’s evil machinations\, finding a new home and family in billionaire Oliver Warbucks\, his personal secretary\, Grace Farrell\, and a lovable mutt named Sandy. \n\n\n\n\n                                \n\n\n\nAnnieJRprogram (1)Download
URL:https://fortatkinsonpac.com/event/annie-jr-middle-school-musical/
LOCATION:FCCU Performing Arts Center\, 925 Lexington Blvd\, Fort Atkinson\, WI\, 53538\, United States
CATEGORIES:Featured,Musical,School District,Theater
ATTACH;FMTTYPE=image/jpeg:https://fortatkinsonpac.com/wp-content/uploads/2023/03/AnnieJr.jpg
END:VEVENT
BEGIN:VEVENT
DTSTART;TZID=America/Chicago:20230319T140000
DTEND;TZID=America/Chicago:20230319T160000
DTSTAMP:20260421T202547
CREATED:20230307T222316Z
LAST-MODIFIED:20230319T143856Z
UID:1768-1679234400-1679241600@fortatkinsonpac.com
SUMMARY:Annie Jr. Middle School Musical
DESCRIPTION:With equal measures of pluck and positivity\, little orphan Annie charms everyone’s hearts despite a next-to-nothing start in 1930s New York City. Annie is determined to find the parents who abandoned her years ago on the doorstep of an orphanage run by the cruel Miss Hannigan. Annie eventually foils Miss Hannigan’s evil machinations\, finding a new home and family in billionaire Oliver Warbucks\, his personal secretary\, Grace Farrell\, and a lovable mutt named Sandy. \n\n\n\n\n                                \n\n\n\nAnnieJRprogram (1)Download
URL:https://fortatkinsonpac.com/event/annie-jr-middle-school-musical-2/
LOCATION:FCCU Performing Arts Center\, 925 Lexington Blvd\, Fort Atkinson\, WI\, 53538\, United States
CATEGORIES:Featured,Musical,School District,Theater
ATTACH;FMTTYPE=image/jpeg:https://fortatkinsonpac.com/wp-content/uploads/2023/03/AnnieJr.jpg
END:VEVENT
END:VCALENDAR