BEGIN:VCALENDAR
VERSION:2.0
PRODID:-//Fort Atkinson Performing Arts Center - ECPv6.15.17.1//NONSGML v1.0//EN
CALSCALE:GREGORIAN
METHOD:PUBLISH
X-ORIGINAL-URL:https://fortatkinsonpac.com
X-WR-CALDESC:Events for Fort Atkinson Performing Arts Center
REFRESH-INTERVAL;VALUE=DURATION:PT1H
X-Robots-Tag:noindex
X-PUBLISHED-TTL:PT1H
BEGIN:VTIMEZONE
TZID:America/Chicago
BEGIN:DAYLIGHT
TZOFFSETFROM:-0600
TZOFFSETTO:-0500
TZNAME:CDT
DTSTART:20220313T080000
END:DAYLIGHT
BEGIN:STANDARD
TZOFFSETFROM:-0500
TZOFFSETTO:-0600
TZNAME:CST
DTSTART:20221106T070000
END:STANDARD
BEGIN:DAYLIGHT
TZOFFSETFROM:-0600
TZOFFSETTO:-0500
TZNAME:CDT
DTSTART:20230312T080000
END:DAYLIGHT
BEGIN:STANDARD
TZOFFSETFROM:-0500
TZOFFSETTO:-0600
TZNAME:CST
DTSTART:20231105T070000
END:STANDARD
BEGIN:DAYLIGHT
TZOFFSETFROM:-0600
TZOFFSETTO:-0500
TZNAME:CDT
DTSTART:20240310T080000
END:DAYLIGHT
BEGIN:STANDARD
TZOFFSETFROM:-0500
TZOFFSETTO:-0600
TZNAME:CST
DTSTART:20241103T070000
END:STANDARD
END:VTIMEZONE
BEGIN:VEVENT
DTSTART;TZID=America/Chicago:20230210T180000
DTEND;TZID=America/Chicago:20230210T210000
DTSTAMP:20260421T221341
CREATED:20230210T151247Z
LAST-MODIFIED:20230211T011428Z
UID:1713-1676052000-1676062800@fortatkinsonpac.com
SUMMARY:Middle School Show Choir Competition
DESCRIPTION:
URL:https://fortatkinsonpac.com/event/middle-school-show-choir-competition/
LOCATION:FCCU Performing Arts Center\, 925 Lexington Blvd\, Fort Atkinson\, WI\, 53538\, United States
CATEGORIES:Music,School District,Showchoir
ATTACH;FMTTYPE=image/png:https://fortatkinsonpac.com/wp-content/uploads/2022/11/LG_FAMS.png
END:VEVENT
BEGIN:VEVENT
DTSTART;TZID=America/Chicago:20230211T080000
DTEND;TZID=America/Chicago:20230211T235900
DTSTAMP:20260421T221341
CREATED:20230210T154510Z
LAST-MODIFIED:20230211T132847Z
UID:1716-1676102400-1676159940@fortatkinsonpac.com
SUMMARY:Fort Atkinson High School Show Choir: Showcase 2023
DESCRIPTION:
URL:https://fortatkinsonpac.com/event/fort-atkinson-show-choir-showcase/
LOCATION:Fort Atkinson High School: Gymnasium
CATEGORIES:Featured,Music,School District,Showchoir
ATTACH;FMTTYPE=image/jpeg:https://fortatkinsonpac.com/wp-content/uploads/2022/10/FA-Performing-Arts.jpg
END:VEVENT
BEGIN:VEVENT
DTSTART;TZID=America/Chicago:20230219T140000
DTEND;TZID=America/Chicago:20230219T160000
DTSTAMP:20260421T221341
CREATED:20230214T193115Z
LAST-MODIFIED:20230215T170811Z
UID:1730-1676815200-1676822400@fortatkinsonpac.com
SUMMARY:64th Annual Pops Concert
DESCRIPTION:
URL:https://fortatkinsonpac.com/event/pops-concert/
LOCATION:Fort Atkinson High School: Gymnasium
CATEGORIES:Band,Featured,Music,School District
ATTACH;FMTTYPE=image/jpeg:https://fortatkinsonpac.com/wp-content/uploads/2023/02/pops-concert.jpg
END:VEVENT
BEGIN:VEVENT
DTSTART;TZID=America/Chicago:20230224T190000
DTEND;TZID=America/Chicago:20230224T210000
DTSTAMP:20260421T221341
CREATED:20230214T193456Z
LAST-MODIFIED:20230214T193906Z
UID:1732-1677265200-1677272400@fortatkinsonpac.com
SUMMARY:Super Science Gag Show
DESCRIPTION:
URL:https://fortatkinsonpac.com/event/super-science-gag-show/
LOCATION:FCCU Performing Arts Center\, 925 Lexington Blvd\, Fort Atkinson\, WI\, 53538\, United States
CATEGORIES:Comedy,Educational,Featured,School District
ATTACH;FMTTYPE=image/jpeg:https://fortatkinsonpac.com/wp-content/uploads/2023/02/chemistry-gb45cd9705_1920.jpg
END:VEVENT
END:VCALENDAR