BEGIN:VCALENDAR
VERSION:2.0
PRODID:-//Fort Atkinson Performing Arts Center - ECPv6.15.17.1//NONSGML v1.0//EN
CALSCALE:GREGORIAN
METHOD:PUBLISH
X-ORIGINAL-URL:https://fortatkinsonpac.com
X-WR-CALDESC:Events for Fort Atkinson Performing Arts Center
REFRESH-INTERVAL;VALUE=DURATION:PT1H
X-Robots-Tag:noindex
X-PUBLISHED-TTL:PT1H
BEGIN:VTIMEZONE
TZID:America/Chicago
BEGIN:DAYLIGHT
TZOFFSETFROM:-0600
TZOFFSETTO:-0500
TZNAME:CDT
DTSTART:20250309T080000
END:DAYLIGHT
BEGIN:STANDARD
TZOFFSETFROM:-0500
TZOFFSETTO:-0600
TZNAME:CST
DTSTART:20251102T070000
END:STANDARD
BEGIN:DAYLIGHT
TZOFFSETFROM:-0600
TZOFFSETTO:-0500
TZNAME:CDT
DTSTART:20260308T080000
END:DAYLIGHT
BEGIN:STANDARD
TZOFFSETFROM:-0500
TZOFFSETTO:-0600
TZNAME:CST
DTSTART:20261101T070000
END:STANDARD
BEGIN:DAYLIGHT
TZOFFSETFROM:-0600
TZOFFSETTO:-0500
TZNAME:CDT
DTSTART:20270314T080000
END:DAYLIGHT
BEGIN:STANDARD
TZOFFSETFROM:-0500
TZOFFSETTO:-0600
TZNAME:CST
DTSTART:20271107T070000
END:STANDARD
END:VTIMEZONE
BEGIN:VEVENT
DTSTART;TZID=America/Chicago:20260430T183000
DTEND;TZID=America/Chicago:20260430T203000
DTSTAMP:20260421T045628
CREATED:20251107T231604Z
LAST-MODIFIED:20251107T231608Z
UID:2226-1777573800-1777581000@fortatkinsonpac.com
SUMMARY:FAHS Exemplary Honors Concert
DESCRIPTION:The Fort Atkinson School District’s Performing Arts Festival Awards Concert celebrates students who received recognition for their outstanding performances\, showcasing their talent and dedication in music\, theater\, and other performing arts.
URL:https://fortatkinsonpac.com/event/fahs-exemplary-honors-concert/
LOCATION:FCCU Performing Arts Center\, 925 Lexington Blvd\, Fort Atkinson\, WI\, 53538\, United States
CATEGORIES:Band,Choir,Jazz,Music,Orchestra,School District
ATTACH;FMTTYPE=image/jpeg:https://fortatkinsonpac.com/wp-content/uploads/2022/10/FA-Performing-Arts.jpg
END:VEVENT
BEGIN:VEVENT
DTSTART;TZID=America/Chicago:20260507T190000
DTEND;TZID=America/Chicago:20260507T210000
DTSTAMP:20260421T045628
CREATED:20251107T232007Z
LAST-MODIFIED:20251107T232010Z
UID:2228-1778180400-1778187600@fortatkinsonpac.com
SUMMARY:FASD's Middle and High School Spring Choir Concert
DESCRIPTION:The Fort Atkinson High School and Middle School Spring CHOIR Concert brings together student musicians for an uplifting celebration of the season\, featuring a variety of performances that highlight their growth\, talent\, and love of music.
URL:https://fortatkinsonpac.com/event/fasds-middle-and-high-school-spring-choir-concert/
LOCATION:FCCU Performing Arts Center\, 925 Lexington Blvd\, Fort Atkinson\, WI\, 53538\, United States
CATEGORIES:Choir,Educational,Music,School District
ATTACH;FMTTYPE=image/png:https://fortatkinsonpac.com/wp-content/uploads/2025/11/choir-concert-thumb.png
END:VEVENT
BEGIN:VEVENT
DTSTART;TZID=America/Chicago:20260514T190000
DTEND;TZID=America/Chicago:20260514T210000
DTSTAMP:20260421T045628
CREATED:20251107T232757Z
LAST-MODIFIED:20251107T232759Z
UID:2230-1778785200-1778792400@fortatkinsonpac.com
SUMMARY:FASD's High School Spring Orchestra Concert
DESCRIPTION:The Fort Atkinson High School and Middle School Spring ORCHESTRA Concert brings together student musicians for an uplifting celebration of the season\, featuring a variety of performances that highlight their growth\, talent\, and love of music.
URL:https://fortatkinsonpac.com/event/fasds-high-school-spring-orchestra-concert/
LOCATION:FCCU Performing Arts Center\, 925 Lexington Blvd\, Fort Atkinson\, WI\, 53538\, United States
CATEGORIES:Educational,Music,Orchestra,School District
ATTACH;FMTTYPE=image/jpeg:https://fortatkinsonpac.com/wp-content/uploads/2025/11/orchestra-concert-thumb-2.jpg
END:VEVENT
BEGIN:VEVENT
DTSTART;TZID=America/Chicago:20260516T140000
DTEND;TZID=America/Chicago:20260516T160000
DTSTAMP:20260421T045628
CREATED:20251107T233600Z
LAST-MODIFIED:20260414T203645Z
UID:2233-1778940000-1778947200@fortatkinsonpac.com
SUMMARY:Soaring Stars Spring Dance Recital
DESCRIPTION:The local dance company’s Spring Recital is a dazzling showcase of talent\, featuring dancers of all ages performing a variety of styles\, including energetic acro dance routines that combine athleticism and artistry for an unforgettable performance.
URL:https://fortatkinsonpac.com/event/soaring-stars-spring-dance-recital/
LOCATION:FCCU Performing Arts Center\, 925 Lexington Blvd\, Fort Atkinson\, WI\, 53538\, United States
CATEGORIES:Dance,Music,Theater
ATTACH;FMTTYPE=image/jpeg:https://fortatkinsonpac.com/wp-content/uploads/2023/05/IMG_0002.jpeg
END:VEVENT
BEGIN:VEVENT
DTSTART;TZID=America/Chicago:20260518T190000
DTEND;TZID=America/Chicago:20260518T210000
DTSTAMP:20260421T045628
CREATED:20251107T234814Z
LAST-MODIFIED:20251108T003529Z
UID:2240-1779130800-1779138000@fortatkinsonpac.com
SUMMARY:FAHS Spring Band Concert
DESCRIPTION:The Fort Atkinson High School brings together Band students for an uplifting celebration of the season\, featuring a variety of performances that highlight their growth\, talent\, and love of music.
URL:https://fortatkinsonpac.com/event/fahs-spring-band-concert/
LOCATION:FCCU Performing Arts Center\, 925 Lexington Blvd\, Fort Atkinson\, WI\, 53538\, United States
CATEGORIES:Band,Music,School District
ATTACH;FMTTYPE=image/jpeg:https://fortatkinsonpac.com/wp-content/uploads/2022/10/Screenshot-2022-10-30-181145.jpg
END:VEVENT
BEGIN:VEVENT
DTSTART;TZID=America/Chicago:20260519T190000
DTEND;TZID=America/Chicago:20260519T210000
DTSTAMP:20260421T045628
CREATED:20251107T235056Z
LAST-MODIFIED:20251108T003601Z
UID:2242-1779217200-1779224400@fortatkinsonpac.com
SUMMARY:FAMS Spring Band Concert
DESCRIPTION:The Fort Atkinson High School brings together Middle School Band students for an uplifting celebration of the season\, featuring a variety of performances that highlight their growth\, talent\, and love of music.
URL:https://fortatkinsonpac.com/event/fams-spring-band-concert/
LOCATION:FCCU Performing Arts Center\, 925 Lexington Blvd\, Fort Atkinson\, WI\, 53538\, United States
CATEGORIES:Band,Music,School District
ATTACH;FMTTYPE=image/jpeg:https://fortatkinsonpac.com/wp-content/uploads/2025/11/band-concert-thumb.jpg
END:VEVENT
BEGIN:VEVENT
DTSTART;TZID=America/Chicago:20260521T180000
DTEND;TZID=America/Chicago:20260521T190000
DTSTAMP:20260421T045628
CREATED:20251107T235742Z
LAST-MODIFIED:20251107T235827Z
UID:2250-1779386400-1779390000@fortatkinsonpac.com
SUMMARY:FASD All-Schools 5th Grade Band & Orchestra Spring Concert
DESCRIPTION:The Fort Atkinson School District’s 5th Grade Combined Spring Concert brings together students from all four schools for a joyful celebration of music\, featuring spirited performances that highlight their talents.
URL:https://fortatkinsonpac.com/event/fasd-all-schools-5th-grade-band-orchestra-spring-concert/
LOCATION:FCCU Performing Arts Center\, 925 Lexington Blvd\, Fort Atkinson\, WI\, 53538\, United States
CATEGORIES:Music,School District,Winter Performance
ATTACH;FMTTYPE=image/jpeg:https://fortatkinsonpac.com/wp-content/uploads/2025/11/5th-GR-Band-Orchestra-Concert-Thumb.jpg
END:VEVENT
BEGIN:VEVENT
DTSTART;TZID=America/Chicago:20260522T090000
DTEND;TZID=America/Chicago:20260522T110000
DTSTAMP:20260421T045628
CREATED:20251108T000648Z
LAST-MODIFIED:20251108T000652Z
UID:2261-1779440400-1779447600@fortatkinsonpac.com
SUMMARY:FASD Rock Day
DESCRIPTION:The Fort Atkinson High School Veterans Celebration honors local veterans from the community\, expressing gratitude for their service and sacrifices while bringing students and residents together to celebrate their dedication to our country.
URL:https://fortatkinsonpac.com/event/fasd-rock-day/
LOCATION:FCCU Performing Arts Center\, 925 Lexington Blvd\, Fort Atkinson\, WI\, 53538\, United States
CATEGORIES:Band,Ceremony,Choir,Educational,Music,School District
ATTACH;FMTTYPE=image/png:https://fortatkinsonpac.com/wp-content/uploads/2025/11/rock-day-thumb.png
END:VEVENT
BEGIN:VEVENT
DTSTART;TZID=America/Chicago:20260526T190000
DTEND;TZID=America/Chicago:20260526T210000
DTSTAMP:20260421T045628
CREATED:20251108T001015Z
LAST-MODIFIED:20251108T001018Z
UID:2265-1779822000-1779829200@fortatkinsonpac.com
SUMMARY:FASD's Middle School Spring Orchestra Concert
DESCRIPTION:The Fort Atkinson Middle School Spring ORCHESTRA Concert brings together student musicians for an uplifting celebration of the season\, featuring a variety of performances that highlight their growth\, talent\, and love of music.
URL:https://fortatkinsonpac.com/event/fasds-middle-school-spring-orchestra-concert/
LOCATION:FCCU Performing Arts Center\, 925 Lexington Blvd\, Fort Atkinson\, WI\, 53538\, United States
CATEGORIES:Educational,Music,Orchestra,School District
ATTACH;FMTTYPE=image/jpeg:https://fortatkinsonpac.com/wp-content/uploads/2025/11/5th-GR-Band-Orchestra-Concert-Thumb.jpg
END:VEVENT
BEGIN:VEVENT
DTSTART;TZID=America/Chicago:20260530T150000
DTEND;TZID=America/Chicago:20260530T210000
DTSTAMP:20260421T045628
CREATED:20250530T151950Z
LAST-MODIFIED:20251108T001620Z
UID:2123-1780153200-1780174800@fortatkinsonpac.com
SUMMARY:CODA
DESCRIPTION:Join the Fort Atkinson High School Performing Arts students as they perform for their final time this school year.
URL:https://fortatkinsonpac.com/event/coda-3/
LOCATION:FCCU Performing Arts Center\, 925 Lexington Blvd\, Fort Atkinson\, WI\, 53538\, United States
CATEGORIES:Band,Choir,Featured,Jazz,Music,School District,Showchoir
ATTACH;FMTTYPE=image/jpeg:https://fortatkinsonpac.com/wp-content/uploads/2023/05/hqdefault.jpg
END:VEVENT
END:VCALENDAR