BEGIN:VCALENDAR
VERSION:2.0
PRODID:-//Fort Atkinson Performing Arts Center - ECPv6.15.17.1//NONSGML v1.0//EN
CALSCALE:GREGORIAN
METHOD:PUBLISH
X-WR-CALNAME:Fort Atkinson Performing Arts Center
X-ORIGINAL-URL:https://fortatkinsonpac.com
X-WR-CALDESC:Events for Fort Atkinson Performing Arts Center
REFRESH-INTERVAL;VALUE=DURATION:PT1H
X-Robots-Tag:noindex
X-PUBLISHED-TTL:PT1H
BEGIN:VTIMEZONE
TZID:America/Chicago
BEGIN:DAYLIGHT
TZOFFSETFROM:-0600
TZOFFSETTO:-0500
TZNAME:CDT
DTSTART:20250309T080000
END:DAYLIGHT
BEGIN:STANDARD
TZOFFSETFROM:-0500
TZOFFSETTO:-0600
TZNAME:CST
DTSTART:20251102T070000
END:STANDARD
BEGIN:DAYLIGHT
TZOFFSETFROM:-0600
TZOFFSETTO:-0500
TZNAME:CDT
DTSTART:20260308T080000
END:DAYLIGHT
BEGIN:STANDARD
TZOFFSETFROM:-0500
TZOFFSETTO:-0600
TZNAME:CST
DTSTART:20261101T070000
END:STANDARD
BEGIN:DAYLIGHT
TZOFFSETFROM:-0600
TZOFFSETTO:-0500
TZNAME:CDT
DTSTART:20270314T080000
END:DAYLIGHT
BEGIN:STANDARD
TZOFFSETFROM:-0500
TZOFFSETTO:-0600
TZNAME:CST
DTSTART:20271107T070000
END:STANDARD
END:VTIMEZONE
BEGIN:VEVENT
DTSTART;TZID=America/Chicago:20260423T193000
DTEND;TZID=America/Chicago:20260426T140000
DTSTAMP:20260423T023618
CREATED:20251107T231042Z
LAST-MODIFIED:20260407T194715Z
UID:2224-1776972600-1777212000@fortatkinsonpac.com
SUMMARY:FAHS Theater Club's Production of "The Outsiders"
DESCRIPTION:Fort Atkinson High School’s annual play showcases the talents of its student actors in a captivating theatrical production filled with creativity\, emotion\, and storytelling—all brought to life without the use of song or dance. (Thursday\, April 23rd through Saturday\, April 25th at 7p and Sunday\, April 26th at 1:30p)
URL:https://fortatkinsonpac.com/event/fahs-theater-clubs-spring-play/
LOCATION:FCCU Performing Arts Center\, 925 Lexington Blvd\, Fort Atkinson\, WI\, 53538\, United States
CATEGORIES:Drama,Music,School District,Theater
ATTACH;FMTTYPE=image/png:https://fortatkinsonpac.com/wp-content/uploads/2025/11/Outsiders-2026-Final.png
END:VEVENT
END:VCALENDAR